BEGIN:VCALENDAR
VERSION:2.0
PRODID:-//jEvents 2.0 for Joomla//EN
CALSCALE:GREGORIAN
METHOD:PUBLISH
BEGIN:VTIMEZONE
TZID:Europe/Berlin
END:VTIMEZONE
BEGIN:VEVENT
UID:dd5157b4299a1a474243da5a40c99e1f
CATEGORIES:Veranstaltungen
CREATED:20250703T224549
SUMMARY:Vorstandssitzung
DESCRIPTION:
DTSTAMP:20260421T081414
DTSTART;TZID=Europe/Berlin:20251204T193000
DTEND;TZID=Europe/Berlin:20251204T223000
SEQUENCE:0
TRANSP:OPAQUE
END:VEVENT
END:VCALENDAR